BEGIN:VCALENDAR
VERSION:2.0
PRODID:-//Jersey City Office of Cultural Affairs - ECPv6.15.20//NONSGML v1.0//EN
CALSCALE:GREGORIAN
METHOD:PUBLISH
X-WR-CALNAME:Jersey City Office of Cultural Affairs
X-ORIGINAL-URL:https://jerseycityculture.org
X-WR-CALDESC:Events for Jersey City Office of Cultural Affairs
REFRESH-INTERVAL;VALUE=DURATION:PT1H
X-Robots-Tag:noindex
X-PUBLISHED-TTL:PT1H
BEGIN:VTIMEZONE
TZID:America/New_York
BEGIN:DAYLIGHT
TZOFFSETFROM:-0500
TZOFFSETTO:-0400
TZNAME:EDT
DTSTART:20250309T070000
END:DAYLIGHT
BEGIN:STANDARD
TZOFFSETFROM:-0400
TZOFFSETTO:-0500
TZNAME:EST
DTSTART:20251102T060000
END:STANDARD
BEGIN:DAYLIGHT
TZOFFSETFROM:-0500
TZOFFSETTO:-0400
TZNAME:EDT
DTSTART:20260308T070000
END:DAYLIGHT
BEGIN:STANDARD
TZOFFSETFROM:-0400
TZOFFSETTO:-0500
TZNAME:EST
DTSTART:20261101T060000
END:STANDARD
BEGIN:DAYLIGHT
TZOFFSETFROM:-0500
TZOFFSETTO:-0400
TZNAME:EDT
DTSTART:20270314T070000
END:DAYLIGHT
BEGIN:STANDARD
TZOFFSETFROM:-0400
TZOFFSETTO:-0500
TZNAME:EST
DTSTART:20271107T060000
END:STANDARD
END:VTIMEZONE
BEGIN:VEVENT
DTSTART;TZID=America/New_York:20260509T130000
DTEND;TZID=America/New_York:20260510T180000
DTSTAMP:20260421T101749
CREATED:20260415T164602Z
LAST-MODIFIED:20260415T164602Z
UID:10003525-1778331600-1778436000@jerseycityculture.org
SUMMARY:MAYhem 14C - The mother of all arts weekends
DESCRIPTION:A musical. Live opera. Flamenco. Tap. An immersive brain installation. Three days of fearless art and live performance under one roof — Mother’s Day weekend at ARTS 14C. Moms get in free Sunday. Tickets are donation-based in support of our Hudson Gives campaign.
URL:https://jerseycityculture.org/event/mayhem-14c-the-mother-of-all-arts-weekends/
LOCATION:ARTS 14C\, 157B 1st St 4th Floor\, Jersey City\, NJ\, 07302\, United States
CATEGORIES:Community,Visual & Performing Arts,What's Coming Up?
ATTACH;FMTTYPE=image/png:https://jerseycityculture.org/wp-content/uploads/2026/04/Final_MAYHem-Logos-04-2.png
ORGANIZER;CN="ARTS 14C":MAILTO:info@arts14c.org
END:VEVENT
END:VCALENDAR