BEGIN:VCALENDAR
VERSION:2.0
PRODID:-//Jersey City Office of Cultural Affairs - ECPv6.15.20//NONSGML v1.0//EN
CALSCALE:GREGORIAN
METHOD:PUBLISH
X-ORIGINAL-URL:https://jerseycityculture.org
X-WR-CALDESC:Events for Jersey City Office of Cultural Affairs
REFRESH-INTERVAL;VALUE=DURATION:PT1H
X-Robots-Tag:noindex
X-PUBLISHED-TTL:PT1H
BEGIN:VTIMEZONE
TZID:America/New_York
BEGIN:DAYLIGHT
TZOFFSETFROM:-0500
TZOFFSETTO:-0400
TZNAME:EDT
DTSTART:20250309T070000
END:DAYLIGHT
BEGIN:STANDARD
TZOFFSETFROM:-0400
TZOFFSETTO:-0500
TZNAME:EST
DTSTART:20251102T060000
END:STANDARD
BEGIN:DAYLIGHT
TZOFFSETFROM:-0500
TZOFFSETTO:-0400
TZNAME:EDT
DTSTART:20260308T070000
END:DAYLIGHT
BEGIN:STANDARD
TZOFFSETFROM:-0400
TZOFFSETTO:-0500
TZNAME:EST
DTSTART:20261101T060000
END:STANDARD
BEGIN:DAYLIGHT
TZOFFSETFROM:-0500
TZOFFSETTO:-0400
TZNAME:EDT
DTSTART:20270314T070000
END:DAYLIGHT
BEGIN:STANDARD
TZOFFSETFROM:-0400
TZOFFSETTO:-0500
TZNAME:EST
DTSTART:20271107T060000
END:STANDARD
END:VTIMEZONE
BEGIN:VEVENT
DTSTART;TZID=America/New_York:20260324T153000
DTEND;TZID=America/New_York:20260324T163000
DTSTAMP:20260423T051726
CREATED:20260206T160031Z
LAST-MODIFIED:20260206T160031Z
UID:10003463-1774366200-1774369800@jerseycityculture.org
SUMMARY:Greece Flag Raising 2026
DESCRIPTION:
URL:https://jerseycityculture.org/event/greece-flag-raising-2026/
LOCATION:CITY HALL CHAMBERS\, 280 GROVE ST\, JERSEY CITY\, NJ\, 07302
CATEGORIES:City Hall Events,Community,What's Coming Up?
ATTACH;FMTTYPE=image/jpeg:https://jerseycityculture.org/wp-content/uploads/2026/02/GREECE-THUMBNAIL-2026.jpg
END:VEVENT
BEGIN:VEVENT
DTSTART;TZID=America/New_York:20260328T090000
DTEND;TZID=America/New_York:20260328T120000
DTSTAMP:20260423T051726
CREATED:20260312T155551Z
LAST-MODIFIED:20260312T155551Z
UID:10003491-1774688400-1774699200@jerseycityculture.org
SUMMARY:Women Rising / Rise & Stride Walk 2026
DESCRIPTION:
URL:https://jerseycityculture.org/event/women-rising-rise-stride-walk-2026/
LOCATION:Lincoln Park\, 1 County Rd 605\, Jersey City\, NJ\, 07304\, United States
CATEGORIES:Community,Outdoor,What's Coming Up?
ATTACH;FMTTYPE=image/jpeg:https://jerseycityculture.org/wp-content/uploads/2026/03/WOMEN-RISING-THUMBNAIL-2026.jpg
END:VEVENT
BEGIN:VEVENT
DTSTART;TZID=America/New_York:20260328T110000
DTEND;TZID=America/New_York:20260328T130000
DTSTAMP:20260423T051726
CREATED:20260323T153415Z
LAST-MODIFIED:20260323T153415Z
UID:10003495-1774695600-1774702800@jerseycityculture.org
SUMMARY:MJCH Presents "Back to Rock Island" 2026
DESCRIPTION:
URL:https://jerseycityculture.org/event/mjch-presents-back-to-rock-island-2026/
LOCATION:Museum of Jersey City History\, 298 Academy St.\, Jersey City\, NJ\, 07306\, United States
CATEGORIES:Apple Tree House,Community,History,What's Coming Up?
ATTACH;FMTTYPE=image/jpeg:https://jerseycityculture.org/wp-content/uploads/2026/03/MJCH-THUMBNAIL-ROCK-ISLAND-2026.jpg
END:VEVENT
BEGIN:VEVENT
DTSTART;TZID=America/New_York:20260328T183000
DTEND;TZID=America/New_York:20260328T220000
DTSTAMP:20260423T051726
CREATED:20260217T153720Z
LAST-MODIFIED:20260217T153720Z
UID:10003468-1774722600-1774735200@jerseycityculture.org
SUMMARY:Black History Month Open Mic 2026
DESCRIPTION:
URL:https://jerseycityculture.org/event/black-history-month-open-mic-2026/
LOCATION:Smush Gallery\, 340 Summit Ave\, Jersey City\, NJ\, 07306\, United States
CATEGORIES:Community,History,Literature & Education,Visual & Performing Arts,What's Coming Up?
ATTACH;FMTTYPE=image/jpeg:https://jerseycityculture.org/wp-content/uploads/2026/02/BLK-HISTORY-OPEN-MIC-THUMBNAIL-2026.jpg
END:VEVENT
BEGIN:VEVENT
DTSTART;TZID=America/New_York:20260331T153000
DTEND;TZID=America/New_York:20260331T163000
DTSTAMP:20260423T051726
CREATED:20260306T171825Z
LAST-MODIFIED:20260327T194516Z
UID:10003480-1774971000-1774974600@jerseycityculture.org
SUMMARY:The 6th Annual Transgender Day of Visibility Flag Raising 2026
DESCRIPTION:
URL:https://jerseycityculture.org/event/the-6th-annual-trans-pride-flag-raising-2026/
LOCATION:City Hall Balcony\, 280 GROVE ST\, JERSEY CITY\, NJ
CATEGORIES:City Hall Events,Community,What's Coming Up?
ATTACH;FMTTYPE=image/jpeg:https://jerseycityculture.org/wp-content/uploads/2026/03/TRANS-PRIDE-FR-2026-THUMBNAIL.jpg
END:VEVENT
END:VCALENDAR